BEGIN:VCALENDAR
VERSION:2.0
PRODID:-//ZContent.net//ZapCalLib 1.0//EN
CALSCALE:GREGORIAN
METHOD:PUBLISH
BEGIN:VEVENT
SUMMARY:Rozpoczęcie
DTSTART:20261017T080000
DTEND:20261017T101000
UID:Rozpoczęcie56705_1776691098
DTSTAMP:20260420T131818
Description:
END:VEVENT
END:VCALENDAR
