BEGIN:VCALENDAR
VERSION:2.0
PRODID:-//ZContent.net//ZapCalLib 1.0//EN
CALSCALE:GREGORIAN
METHOD:PUBLISH
BEGIN:VEVENT
SUMMARY:Powikłanie skórne
DTSTART:20261017T081000
DTEND:20261017T103000
UID:Powikłanie skórne56706_1776691982
DTSTAMP:20260420T133302
Description:
END:VEVENT
END:VCALENDAR
