BEGIN:VCALENDAR
VERSION:2.0
PRODID:-//ZContent.net//ZapCalLib 1.0//EN
CALSCALE:GREGORIAN
METHOD:PUBLISH
BEGIN:VEVENT
SUMMARY:Powikłania w układzie oddechowym
DTSTART:20261017T084000
DTEND:20261017T110000
UID:Powikłania w układzie oddechowym56708_1776760828
DTSTAMP:20260421T084028
Description:
END:VEVENT
END:VCALENDAR
