BEGIN:VCALENDAR
VERSION:2.0
PRODID:-//ZContent.net//ZapCalLib 1.0//EN
CALSCALE:GREGORIAN
METHOD:PUBLISH
BEGIN:VEVENT
SUMMARY:Dyskusja
DTSTART:20261017T090000
DTEND:20261017T111000
UID:Dyskusja56709_1776760527
DTSTAMP:20260421T083527
Description:
END:VEVENT
END:VCALENDAR
