BEGIN:VCALENDAR
VERSION:2.0
PRODID:-//ZContent.net//ZapCalLib 1.0//EN
CALSCALE:GREGORIAN
METHOD:PUBLISH
BEGIN:VEVENT
SUMMARY:Powikłania w układzie sercowo-naczyniowym<br />\n 
DTSTART:20261017T091000
DTEND:20261017T113000
UID:Powikłania w układzie sercowo-naczyniowym<br />\n 56710_1776760526
DTSTAMP:20260421T083526
Description:
END:VEVENT
END:VCALENDAR
