BEGIN:VCALENDAR
VERSION:2.0
PRODID:-//ZContent.net//ZapCalLib 1.0//EN
CALSCALE:GREGORIAN
METHOD:PUBLISH
BEGIN:VEVENT
SUMMARY:Dyskusja
DTSTART:20261017T093000
DTEND:20261017T114000
UID:Dyskusja56711_1776722705
DTSTAMP:20260420T220505
Description:
END:VEVENT
END:VCALENDAR
