BEGIN:VCALENDAR
VERSION:2.0
PRODID:-//ZContent.net//ZapCalLib 1.0//EN
CALSCALE:GREGORIAN
METHOD:PUBLISH
BEGIN:VEVENT
SUMMARY:Wykład sponsorowany 1
DTSTART:20261017T094000
DTEND:20261017T115500
UID:Wykład sponsorowany 156712_1776722674
DTSTAMP:20260420T220434
Description:
END:VEVENT
END:VCALENDAR
