BEGIN:VCALENDAR
VERSION:2.0
PRODID:-//ZContent.net//ZapCalLib 1.0//EN
CALSCALE:GREGORIAN
METHOD:PUBLISH
BEGIN:VEVENT
SUMMARY:Powikłania w układzie pokarmowym
DTSTART:20261017T100500
DTEND:20261017T122000
UID:Powikłania w układzie pokarmowym56714_1776760249
DTSTAMP:20260421T083049
Description:
END:VEVENT
END:VCALENDAR
