BEGIN:VCALENDAR
VERSION:2.0
PRODID:-//ZContent.net//ZapCalLib 1.0//EN
CALSCALE:GREGORIAN
METHOD:PUBLISH
BEGIN:VEVENT
SUMMARY:Dyskusja
DTSTART:20261017T102000
DTEND:20261017T123500
UID:Dyskusja56715_1776722766
DTSTAMP:20260420T220606
Description:
END:VEVENT
END:VCALENDAR
