BEGIN:VCALENDAR
VERSION:2.0
PRODID:-//ZContent.net//ZapCalLib 1.0//EN
CALSCALE:GREGORIAN
METHOD:PUBLISH
BEGIN:VEVENT
SUMMARY:Wykład sponsorowany 2
DTSTART:20261017T103500
DTEND:20261017T125000
UID:Wykład sponsorowany 256716_1776701354
DTSTAMP:20260420T160914
Description:
END:VEVENT
END:VCALENDAR
