BEGIN:VCALENDAR
VERSION:2.0
PRODID:-//ZContent.net//ZapCalLib 1.0//EN
CALSCALE:GREGORIAN
METHOD:PUBLISH
BEGIN:VEVENT
SUMMARY:Powikłania w układzie wydzielania wewnętrznego
DTSTART:20261017T105000
DTEND:20261017T131000
UID:Powikłania w układzie wydzielania wewnętrznego56717_1776722736
DTSTAMP:20260420T220536
Description:
END:VEVENT
END:VCALENDAR
