BEGIN:VCALENDAR
VERSION:2.0
PRODID:-//ZContent.net//ZapCalLib 1.0//EN
CALSCALE:GREGORIAN
METHOD:PUBLISH
BEGIN:VEVENT
SUMMARY:Dyskusja 
DTSTART:20261017T111000
DTEND:20261017T132000
UID:Dyskusja 56718_1776722837
DTSTAMP:20260420T220717
Description:
END:VEVENT
END:VCALENDAR
