BEGIN:VCALENDAR
VERSION:2.0
PRODID:-//ZContent.net//ZapCalLib 1.0//EN
CALSCALE:GREGORIAN
METHOD:PUBLISH
BEGIN:VEVENT
SUMMARY:Wykład sponsorowany 3
DTSTART:20261017T112000
DTEND:20261017T133500
UID:Wykład sponsorowany 356719_1776722816
DTSTAMP:20260420T220656
Description:
END:VEVENT
END:VCALENDAR
