BEGIN:VCALENDAR
VERSION:2.0
PRODID:-//ZContent.net//ZapCalLib 1.0//EN
CALSCALE:GREGORIAN
METHOD:PUBLISH
BEGIN:VEVENT
SUMMARY:Powikłania okulistyczne
DTSTART:20261017T113500
DTEND:20261017T135500
UID:Powikłania okulistyczne56720_1776722517
DTSTAMP:20260420T220157
Description:
END:VEVENT
END:VCALENDAR
