BEGIN:VCALENDAR
VERSION:2.0
PRODID:-//ZContent.net//ZapCalLib 1.0//EN
CALSCALE:GREGORIAN
METHOD:PUBLISH
BEGIN:VEVENT
SUMMARY:Dyskusja
DTSTART:20261017T115500
DTEND:20261017T140500
UID:Dyskusja56721_1776722632
DTSTAMP:20260420T220352
Description:
END:VEVENT
END:VCALENDAR
