BEGIN:VCALENDAR
VERSION:2.0
PRODID:-//ZContent.net//ZapCalLib 1.0//EN
CALSCALE:GREGORIAN
METHOD:PUBLISH
BEGIN:VEVENT
SUMMARY:Powikłania w układzie krwiotwórczym
DTSTART:20261017T120500
DTEND:20261017T142000
UID:Powikłania w układzie krwiotwórczym56722_1776722578
DTSTAMP:20260420T220258
Description:
END:VEVENT
END:VCALENDAR
