BEGIN:VCALENDAR
VERSION:2.0
PRODID:-//ZContent.net//ZapCalLib 1.0//EN
CALSCALE:GREGORIAN
METHOD:PUBLISH
BEGIN:VEVENT
SUMMARY:Zakończenie
DTSTART:20261017T122000
DTEND:20261017T143500
UID:Zakończenie56723_1776760565
DTSTAMP:20260421T083605
Description:
END:VEVENT
END:VCALENDAR
